BEGIN:VCALENDAR
VERSION:2.0
PRODID:-//ज्ञान प्रबोधिनी - ECPv6.15.20//NONSGML v1.0//EN
CALSCALE:GREGORIAN
METHOD:PUBLISH
X-WR-CALNAME:ज्ञान प्रबोधिनी
X-ORIGINAL-URL:https://jpnvnigdi.org
X-WR-CALDESC:Events for ज्ञान प्रबोधिनी
REFRESH-INTERVAL;VALUE=DURATION:PT1H
X-Robots-Tag:noindex
X-PUBLISHED-TTL:PT1H
BEGIN:VTIMEZONE
TZID:Asia/Kolkata
BEGIN:STANDARD
TZOFFSETFROM:+0530
TZOFFSETTO:+0530
TZNAME:IST
DTSTART:20200101T000000
END:STANDARD
END:VTIMEZONE
BEGIN:VEVENT
DTSTART;TZID=Asia/Kolkata:20210621T090000
DTEND;TZID=Asia/Kolkata:20210622T123000
DTSTAMP:20260423T235805
CREATED:20210616T163218Z
LAST-MODIFIED:20210617T050026Z
UID:7829-1624266000-1624365000@jpnvnigdi.org
SUMMARY:हर्षदराय रतिलाल कारीआ कलाभवन उद्घाटन सोहळा 
DESCRIPTION:सस्नेह निमंत्रण !\nज्ञान प्रबोधिनी निगडी केंद्रात – आरोग्य शिक्षण\, कला शिक्षण आणि प्राथमिक शिक्षणासाठी वास्तूविस्ताराचे काम अनेकांच्या सहकार्याने पूर्ण झाले आहे या सर्वांबद्दल कृतज्ञता व्यक्त करण्याकरिता आणि परमेश्वररुपी बालगोपाळांना ही वास्तू समर्पित करण्याकरिता हा सोहळा आयोजित केला आहे. यामध्ये आपण सर्वांना दूरस्थरुपी (online) सहभागी होण्यासाठी हे आग्रहाचे निमंत्रण! \nमनोज देवळेकर                                   गिरीशराव बापट\nकेंद्रप्रमुख निगडी केंद्र                             संचालक \nज्ञान प्रबोधिनी निगडी केंद्र \nहर्षदराय रतिलाल कारीआ कलाभवन उद्घाटन सोहळा \nसोमवार सौर ज्येष्ठ ३१ शके १९४३\, २१ जून २०२१ \nवेळ: सकाळी ९.०० ते १०.३०\nक्रीडादालनाचे उद्घाटन (चौथा मजला)\nरायफल शूटिंग\, योग\, टेबल टेनिस\, कबड्डी यांसाठी अद्ययावत कक्ष\nप्रमुख पाहुणे: माननीय श्री दत्तात्रय निकम (CFO Mahindra Vehicle Manufacturer Ltd.)\nविशेष अतिथी: माननीय श्री प्रशांत अय्यंगार (BKS अय्यंगार योग संस्था)\nअध्यक्ष: माननीय श्री मोहनराव गुजराथी \nवेळ:सायंकाळी ५.०० ते ६.३०\nकलादालनाचे उद्घाटन (तिसरा मजला)\nचित्र – हस्त – नाट्य – संगीतादी ८ कलांसाठी स्वतंत्र कक्ष\nप्रमुख पाहुणे: माननीय श्री अनंत चिंचोळकर (Head-HR\, IR & Admin KTFL)\nअध्यक्ष: माननीय श्री सुभाष राव देशपांडे (कार्यवाह – ज्ञान प्रबोधिनी) \nमुख्य उद्घाटन सोहळा\nमंगळवार सौर आषाढ १ शके १९४३\, २२ जून २०२१\nवेळ: सकाळी १०.३० ते १२.३० \nइमारतीचे नामकरण आणि प्राथमिक विभागाच्या वर्गांचे उद्घाटन (दुसरा मजला)\nप्राथमिकसाठी स्वतंत्र ८ वर्गखोल्या\nप्रमुख पाहुणे: माननीय श्री नितीन भाई कारीआ (Ratilal Bhavan Construction Co.)\n                    माननीय श्री पार्थ मुखर्जी (Project Manager\, Janaki Devi GVS)\n                    माननीय श्री संजय कुलकर्णी (President Fleetguard filters Pvt. Ltd.)\nअध्यक्ष: माननीय श्री गिरीशराव बापट (संचालक\, ज्ञान प्रबोधिनी) \nकार्यक्रम पाहण्यासाठी लिंक https://youtube.com/JPNVnigdi
URL:https://jpnvnigdi.org/event/harshadray-ratilal-kaaria-art-center-opening-ceremony/
LOCATION:Youtube Live Event
CATEGORIES:उद्घाटन सोहळा
ATTACH;FMTTYPE=image/jpeg:https://jpnvnigdi.org/wp-content/uploads/2021/06/harshadray-kaaria-center-opening.jpeg
END:VEVENT
END:VCALENDAR