BEGIN:VCALENDAR
VERSION:2.0
PRODID:-//ज्ञान प्रबोधिनी - ECPv6.15.20//NONSGML v1.0//EN
CALSCALE:GREGORIAN
METHOD:PUBLISH
X-WR-CALNAME:ज्ञान प्रबोधिनी
X-ORIGINAL-URL:https://jpnvnigdi.org
X-WR-CALDESC:Events for ज्ञान प्रबोधिनी
REFRESH-INTERVAL;VALUE=DURATION:PT1H
X-Robots-Tag:noindex
X-PUBLISHED-TTL:PT1H
BEGIN:VTIMEZONE
TZID:Asia/Kolkata
BEGIN:STANDARD
TZOFFSETFROM:+0530
TZOFFSETTO:+0530
TZNAME:IST
DTSTART:20190101T000000
END:STANDARD
END:VTIMEZONE
BEGIN:VEVENT
DTSTART;TZID=Asia/Kolkata:20210404T170000
DTEND;TZID=Asia/Kolkata:20210404T190000
DTSTAMP:20260424T214323
CREATED:20210404T061716Z
LAST-MODIFIED:20210404T061736Z
UID:7631-1617555600-1617562800@jpnvnigdi.org
SUMMARY:रुजवू पालकतत्व - व्याख्यानमाला पुष्प २४ वे
DESCRIPTION:पालक होणे सोपे\, निभावून नेणे जरा अवघडच.. नाही का ?पालकत्व हा एक अनुभवसिद्ध प्रवास असतो. त्यात शास्त्र व कला यांचा मिलाफ असतो. पालक आणि मुले यांच्यात दरी निर्माण होण्यास दोन गोष्टी कारणीभूत असतात. एक पालक मुलांशी बोलण्यासाठी वापरतात ती भाषा आणि पालकांची देहबोली ! \nअश्या आपल्या सर्वांसाठी चालना देणारी अशी रुजवू पालकतत्व  ही कार्यशाळा पालक महासंघाने आपल्यासाठी आयोजित केली आहे. \nमानसशास्त्र व पालकत्व या विश्वात गेली 20 वर्षे कार्यरत असलेल्या\, देशात आणि परदेशात ही या विषयात कार्यशाळा घेणार्‍या मानसशास्त्रज्ञ डॉ. उमाताई बापट आपल्याला मार्गदर्शन करतील.\nयासाठी जास्तीतजास्त संख्येने उपस्थित राहूयात ! 🙏 \nपालक महासंघ व्याख्यानमाला पुष्प २४ \nJoin Zoom Meeting\nhttps://zoom.us/j/91688284597?pwd=bWJDbjN4MlBoQW9mR2tYVkxZMFJaZz09 \nMeeting ID: 916 8828 4597\nPasscode: jpnvpm \nपालक महासंघ
URL:https://jpnvnigdi.org/event/internalizing-principles-of-parenting-uma-bapat/
LOCATION:Online Zoom/Meet\, Online\, pune\, Maharashtra\, 411044\, India
CATEGORIES:व्याख्यानमाला
ATTACH;FMTTYPE=image/jpeg:https://jpnvnigdi.org/wp-content/uploads/2021/04/uma-bapat-4-april.jpg
ORGANIZER;CN="%E0%A4%AA%E0%A4%BE%E0%A4%B2%E0%A4%95 %E0%A4%AE%E0%A4%B9%E0%A4%BE%E0%A4%B8%E0%A4%82%E0%A4%98":MAILTO:webadmin@jpnvnigdi.org
END:VEVENT
BEGIN:VEVENT
DTSTART;TZID=Asia/Kolkata:20210221T160000
DTEND;TZID=Asia/Kolkata:20210221T190000
DTSTAMP:20260424T214323
CREATED:20210220T043057Z
LAST-MODIFIED:20210220T172301Z
UID:7614-1613923200-1613934000@jpnvnigdi.org
SUMMARY:कै. वा.ना.अभ्यंकर तथा भाऊ यांची श्रद्धांजली सभा
DESCRIPTION:ज्ञानप्रबोधिनी निगडी केंद्राचे संस्थापक आणि मातृमंदिर विश्वस्त संस्थेचे कार्यवाह ज्येष्ठ शिक्षणतज्ज्ञ वा. ना. तथा आदरणीय भाऊ अभ्यंकर (वय ७९) यांचे १६ फेब्रुवारी रोजी निधन झाले. ज्ञानप्रबोधिनी निगडी येथे रविवारी (दि. २१ फेब्रुवारी २०२१) श्रद्धांजली सभेचे आयोजन करण्यात आले आहे. \nज्ञानप्रबोधिनी निगडी केंद्र येथील मनोहर सभागृहात रविवारी दुपारी चार ते सायंकाळी सात या कालावधीत ही श्रद्धांजली सभा होणार आहे. कोरोनाच्या पार्श्वभूमीवर ही सभा केवळ निमंत्रितांसाठी आहे. अन्य हितचिंतक\, माजी विद्यार्थ्यांना दूरस्थ पद्धतीने सहभागी होता येईल. https://youtube.com/c/JPNVNigdi या लिंकद्वारे ऑनलाईन माध्यमातून सर्वांना सहभागी होता येईल. \nपंचकोषांवर आधारित शिक्षणपद्धती विकसित करण्यात अभ्यंकर भाऊंचा मोठा सहभाग होता. विद्यार्थ्यांना त्यांच्या अंगभूत गुणांची जाणीव व्हावी आणि त्यांनी सुजाण नागरिक व्हावे\, यासाठी त्यांनी आयुष्यभर कष्ट घेतले. गणित\, संस्कृत या विषयांत त्यांचा हातखंडा होता.
URL:https://jpnvnigdi.org/event/%e0%a4%95%e0%a5%88-%e0%a4%b5%e0%a4%be-%e0%a4%a8%e0%a4%be-%e0%a4%85%e0%a4%ad%e0%a5%8d%e0%a4%af%e0%a4%82%e0%a4%95%e0%a4%b0-%e0%a4%a4%e0%a4%a5%e0%a4%be-%e0%a4%ad%e0%a4%be%e0%a4%8a/
LOCATION:मनोहर सभागृह\, Pradhikaran\, Nigdi\, pune\, Maharashtra\, 411044\, India
CATEGORIES:इतर
ATTACH;FMTTYPE=image/jpeg:https://jpnvnigdi.org/wp-content/uploads/2021/02/bhau.jpg
END:VEVENT
BEGIN:VEVENT
DTSTART;TZID=Asia/Kolkata:20201213T170000
DTEND;TZID=Asia/Kolkata:20201213T190000
DTSTAMP:20260424T214323
CREATED:20201209T161840Z
LAST-MODIFIED:20201209T161840Z
UID:7475-1607878800-1607886000@jpnvnigdi.org
SUMMARY:निसर्ग संवर्धन - पालक महासंघ व्याख्यानमाला पुष्प २२
DESCRIPTION:पालक महासंघ व्याख्यानमाला\, पुष्प २२\nविषय: निसर्ग संवर्धन\nदिनांक: १३ डिसेंबर\, सायं. ५ \nडोळे उघडुन बघा गड्यांनो\, झापड लावू नका!! \nअवकाळी पडणारा धो धो पाऊस \, महाराष्ट्र पर्यंत पोहोचलेली वादळे व पूर तर कुठे कोरडा दुष्काळ\,उष्माघाताने वा नदी-समुद्रातील प्रदूषणात मृत्युमुखी पडणारे असंख्य जीव \, नामशेष होणाऱ्या प्रजाती\, ॲमॅझॉन सारख्या जंगलात सतत लागणारे वणवे अशी राजा- रंकाचा भेद न करणारी निसर्गाची भीतीदायक वाटचाल …\nमात्र आपल्यातलेच काही जण रोजच्या कौटुंबिक जबाबदाऱ्या सांभाळत ह्या निसर्ग संवर्धनासाठी जीवापाड प्रयत्न करत आहे जेणेकरून आपल्या सर्वांनाच ह्या पृथ्वीवर राहण सुरक्षित व्हावं ..\nसाधारण २० वर्ष पासून ह्या क्षेत्रात काम करणारे श्री धनंजय शेडबाळे सरांकडून जाणून घेऊयात त्यांचा प्रवास व पुढच्या टप्प्यात त्यांच्याबरोबर सहभागी होण्याचा प्रयत्न करूयात. \nJoin Zoom Meeting\nhttps://zoom.us/j/91688284597?pwd=bWJDbjN4MlBoQW9mR2tYVkxZMFJaZz09 \nzoom ID: 916 8828 4597\nPasscode: jpnvpm
URL:https://jpnvnigdi.org/event/nature-conservation/
LOCATION:Online Zoom/Meet\, Online\, pune\, Maharashtra\, 411044\, India
CATEGORIES:व्याख्यानमाला
ATTACH;FMTTYPE=image/jpeg:https://jpnvnigdi.org/wp-content/uploads/2020/12/nature-conservation.jpeg
ORGANIZER;CN="%E0%A4%AA%E0%A4%BE%E0%A4%B2%E0%A4%95 %E0%A4%AE%E0%A4%B9%E0%A4%BE%E0%A4%B8%E0%A4%82%E0%A4%98":MAILTO:webadmin@jpnvnigdi.org
END:VEVENT
BEGIN:VEVENT
DTSTART;TZID=Asia/Kolkata:20201129T170000
DTEND;TZID=Asia/Kolkata:20201129T190000
DTSTAMP:20260424T214323
CREATED:20201129T083547Z
LAST-MODIFIED:20201129T083628Z
UID:7469-1606669200-1606676400@jpnvnigdi.org
SUMMARY:मानवी जीवनातील भाषेचे महत्व
DESCRIPTION:व्याख्यान पुष्प 21 – रविवार\,दि.29 नोव्हेंबर\n\nकार्यक्रमाची रूपरेषा\n\nओंकार\,पद्य-(  प्रबोधिनीत यायचे)  – सौ.संजीवनी ताई\n\nप्रस्तावना– सौ.तृप्ती ताई\n\nपाहुणे परिचय– सौ. माधवी ताई\n\nव्याख्यान\n\nआभार– मिलिंद दादा\n\nप्रार्थना-सौ.चारुता ताई
URL:https://jpnvnigdi.org/event/vyakhyanmala-pushp-21/
LOCATION:Online Zoom/Meet\, Online\, pune\, Maharashtra\, 411044\, India
CATEGORIES:व्याख्यानमाला
ATTACH;FMTTYPE=image/jpeg:https://jpnvnigdi.org/wp-content/uploads/2020/11/vyakhyan-21.jpg
ORGANIZER;CN="%E0%A4%AA%E0%A4%BE%E0%A4%B2%E0%A4%95 %E0%A4%AE%E0%A4%B9%E0%A4%BE%E0%A4%B8%E0%A4%82%E0%A4%98":MAILTO:webadmin@jpnvnigdi.org
END:VEVENT
BEGIN:VEVENT
DTSTART;TZID=Asia/Kolkata:20201110T160000
DTEND;TZID=Asia/Kolkata:20201110T180000
DTSTAMP:20260424T214323
CREATED:20201109T110019Z
LAST-MODIFIED:20201109T110210Z
UID:7459-1605024000-1605031200@jpnvnigdi.org
SUMMARY:पाककृती मार्गदर्शन - भाग १
DESCRIPTION:पाककृती मार्गदर्शन – भाग १\nयेणाऱ्या दिवाळी निमित्ताने नवीन मिठाई आणि नमकीन पदार्थ शिकू इच्छिणाऱ्यांसाठी पालक महासंघ घेऊन येत आहे पाककृती मार्गदर्शन वर्ग १ \, यामध्ये प्रामुख्याने म्हैसूर पाक\, तिरुपती बालाजी लाडू\, टोमॅटो बर्फी आणि बरेच काही शिकायला मिळणार आहे. \nतेव्हा सहभागी होऊन शिकूया अर्थातच ऑनलाईन १० नोव्हेंबर रोजी दुपारी ४ वाजता. आपल्याला मार्गदर्शन करण्यास येत आहेत सौ. शोभा श्रीकांत \nJoin Zoom Meeting \nhttps://zoom.us/j/95163666754?pwd=ZWRTTGdQazU5cTE4bXlnK3duNGpBQT09 \nMeeting ID: 951 6366 6754\nPasscode: 12345
URL:https://jpnvnigdi.org/event/recipes-guide-part-1/
LOCATION:Online Zoom/Meet\, Online\, pune\, Maharashtra\, 411044\, India
CATEGORIES:इतर
ATTACH;FMTTYPE=image/jpeg:https://jpnvnigdi.org/wp-content/uploads/2020/11/shobha-shrikant.jpeg
ORGANIZER;CN="%E0%A4%AA%E0%A4%BE%E0%A4%B2%E0%A4%95 %E0%A4%AE%E0%A4%B9%E0%A4%BE%E0%A4%B8%E0%A4%82%E0%A4%98":MAILTO:webadmin@jpnvnigdi.org
END:VEVENT
BEGIN:VEVENT
DTSTART;TZID=Asia/Kolkata:20201101T170000
DTEND;TZID=Asia/Kolkata:20201101T190000
DTSTAMP:20260424T214323
CREATED:20201030T041208Z
LAST-MODIFIED:20201030T041331Z
UID:7416-1604250000-1604257200@jpnvnigdi.org
SUMMARY:कला क्षेत्रातील आव्हाने आणि संधी - व्याख्यानमाला पुष्प २०
DESCRIPTION:आई –  “मग यंदा दहावी ना ? अभ्यास एकदम जोरात ना यावर्षी? दादा सारखंच मेडिकलला जाणार वाटतं?  \nमुलगी – “अजिबात नाही ! माझी आवड पूर्णपणे वेगळी आहे.. मला गाणं शिकायचंय.. अभिनयात करिअर करायचंय !माझं स्वप्न आहे ते मोठं!”  पण हे सगळं मी कस जमवून आणू ?  मला यासाठी मार्गदर्शन हवंय खर तर !” \nकाय.. ओळखीचा वाटतोय ना हा संवाद ? 😊 अगदी तुमच्या आमच्या घरात  घडणारा .. हो ना?\nअभिनय\, नृत्य\, नाट्य\, वादन  चित्रकला आणि अजूनही बरंच काही…. असं मुलांना करायचं खूप काही असतं हो! नेहमीच्या चाकोरीबद्ध शिक्षणापेक्षा… वेगळं काहीतरी!!!  \nमात्र यासाठी जोड हवी असते ती योग्य माहिती आणि मार्गदर्शनाची. आयुष्याच्या या वळणावर योग्य दिशा मिळणं अतिशय गरजेचं असतं!\nआणि याचसाठी ज्ञान प्रबोधिनी पालक महासंघ आपल्यासाठी घेऊन येत आहे.. 👇👇\nआपल्या व्याख्यानमालेतील पुष्प २० वे .. \nविषय- कला क्षेत्रातील आव्हाने आणि संधी  \nवक्ते – प्रसिद्ध रंगकर्मी\, श्री योगेश सोमण \nदि. १ नोव्हेंबर \,रविवारी संध्याकाळी  ५ वाजता  आपण सगळेच  मोठ्या संख्येने उपस्थित राहून या अतिशय माहितीपर व्याख्यानाचा आनंद घेऊयात .  (अर्थातच झूम किंवा YouTube वर)  \nhttps://www.youtube.com/c/JPNVNigdi \n(आजच वरची लिंक subscribe करा आणि बेल 🔔 आयकॉन वर क्लिक करून ठेवा) \nकार्यकारी समिती\nपालक महासंघ
URL:https://jpnvnigdi.org/event/challenges-in-art-field-vyakhyanmala-pushp-20/
LOCATION:Online Zoom/Meet\, Online\, pune\, Maharashtra\, 411044\, India
CATEGORIES:व्याख्यानमाला
ATTACH;FMTTYPE=image/jpeg:https://jpnvnigdi.org/wp-content/uploads/2020/10/yogesh-soman-1nov.jpg
ORGANIZER;CN="%E0%A4%AA%E0%A4%BE%E0%A4%B2%E0%A4%95 %E0%A4%AE%E0%A4%B9%E0%A4%BE%E0%A4%B8%E0%A4%82%E0%A4%98":MAILTO:webadmin@jpnvnigdi.org
END:VEVENT
BEGIN:VEVENT
DTSTART;TZID=Asia/Kolkata:20201011T170000
DTEND;TZID=Asia/Kolkata:20201011T190000
DTSTAMP:20260424T214323
CREATED:20201009T133557Z
LAST-MODIFIED:20201009T164835Z
UID:7332-1602435600-1602442800@jpnvnigdi.org
SUMMARY:भारत चीन संघर्ष - पुष्प १९
DESCRIPTION:जगभरातील चीन विरोधाचा भारताला फायदा; सप्टेंबर महिन्यात निर्यातीत वाढ \n“युद्ध झाल्यास भारत अजिबात जिंकणार नाही\, चीनची धमकी“ \n“लद्दाख में चीन सीमा तक सबसे ऊंची रेल लाइन बिछा रहा भारत बिलासपुर से लेह टाउन के बीच पटरी बिछाने का काम शुरु” \nअशा अनेक बातम्या आपण सध्या वाचत आहोत त्यावर चर्चा करत आहोत\, पण ह्या बातमीच्या पलीकडे काही आहे का\, खरच युद्ध होईल का? चीन ला सर्व जग दूर करू शकेल का? भारत आणि चीन चा इतिहास काय? असे अनेक पैलू उलगडून सांगणार आहेत आपल्या पालक महासंघाच्या व्याख्यानमालेत आपले मा. वक्ते श्री. किरण पळसुले (निवृत्त एअर व्हाईस मार्शल) \nविषय: भारत चीन संघर्ष – पुष्प १९ \nकधी?: रविवार ११ ऑक्टोबर\, सायंकाळी ५.०० वाजता \nYouTube: https://www.youtube.com/c/JPNVNigdi \nझूम लिंक: Click here to join Zoom link \nZoom Meeting ID: 972 6802 1692\nMeeting Pass code: 584HQz
URL:https://jpnvnigdi.org/event/india-china-clash-lecture-series-19/
LOCATION:Online Zoom/Meet\, Online\, pune\, Maharashtra\, 411044\, India
CATEGORIES:व्याख्यानमाला
ATTACH;FMTTYPE=image/jpeg:https://jpnvnigdi.org/wp-content/uploads/2020/10/india-china-clash-lecture.jpg
ORGANIZER;CN="%E0%A4%AA%E0%A4%BE%E0%A4%B2%E0%A4%95 %E0%A4%AE%E0%A4%B9%E0%A4%BE%E0%A4%B8%E0%A4%82%E0%A4%98":MAILTO:webadmin@jpnvnigdi.org
END:VEVENT
BEGIN:VEVENT
DTSTART;TZID=Asia/Kolkata:20200927T170000
DTEND;TZID=Asia/Kolkata:20200927T183000
DTSTAMP:20260424T214323
CREATED:20200927T053400Z
LAST-MODIFIED:20200927T114705Z
UID:7259-1601226000-1601231400@jpnvnigdi.org
SUMMARY:प्लास्टिक\, पर्यावरण व कोरोना - व्याख्यानमाला पुष्प १८
DESCRIPTION:ज्ञान प्रबोधिनी पालक महासंघ निगडी आणि इनर व्हील क्लब ऑफ निगडी प्राईड\nआयोजित\nपाक्षिक व्याख्यानमाला पुष्प – १८ \n दि. २७ – सप्टेंबर- २०२०   \nविषय – प्लास्टिक\, पर्यावरण व कोरोना \nवक्ते- मा.विनोद बोधनकर \nसायं: ५ ते ६.३०  \nस्थळ – ऑनलाईन\, झूम मीटिंग \nJoin Zoom Meeting\nhttps://zoom.us/j/91518737756?pwd=ZGY2a0ZRajFnbDZvN1ltNi9tbFIxZz09 \nMeeting ID: 915 1873 7756\nPasscode: 6mnYkX \nपरिसरातील सर्वांसाठी खुले
URL:https://jpnvnigdi.org/event/plastic-environment-corona-lecture-series-18/
LOCATION:Online Zoom/Meet\, Online\, pune\, Maharashtra\, 411044\, India
CATEGORIES:व्याख्यानमाला
ATTACH;FMTTYPE=image/jpeg:https://jpnvnigdi.org/wp-content/uploads/2020/09/IMG-20200926-WA0058.jpg
ORGANIZER;CN="%E0%A4%AA%E0%A4%BE%E0%A4%B2%E0%A4%95 %E0%A4%AE%E0%A4%B9%E0%A4%BE%E0%A4%B8%E0%A4%82%E0%A4%98":MAILTO:webadmin@jpnvnigdi.org
END:VEVENT
BEGIN:VEVENT
DTSTART;TZID=Asia/Kolkata:20200913T170000
DTEND;TZID=Asia/Kolkata:20200913T183000
DTSTAMP:20260424T214323
CREATED:20200912T155922Z
LAST-MODIFIED:20200912T174503Z
UID:6891-1600016400-1600021800@jpnvnigdi.org
SUMMARY:पालक महासंघ - व्याख्यानमाला\, पुष्प १७
DESCRIPTION:विषय: आर्थिक नियोजन आणि गुंतवणूक पर्याय\nमुलाखत स्वरूपात: श्री. महेश राजपूत\, श्री. सुशील मोरे आणि श्री. राहुल दिकोंडा \nरविवार \, १३ सप्टेंबर २०२०\nवेळ: संध्याकाळी ५ ते ६:३० \nYouTube link: https://zoom.us/j/99591240363?pwd=aDNtYUlSeGpwQUhBTmtZRGlsTmhBdz09\nMeeting ID: 995 9124 0363\nPasscode: 6bStxz
URL:https://jpnvnigdi.org/event/vyakhyanmala-pushp-17/
LOCATION:Online Zoom/Meet\, Online\, pune\, Maharashtra\, 411044\, India
CATEGORIES:व्याख्यानमाला
ATTACH;FMTTYPE=image/jpeg:https://jpnvnigdi.org/wp-content/uploads/2020/09/palak.jpg
ORGANIZER;CN="%E0%A4%AA%E0%A4%BE%E0%A4%B2%E0%A4%95 %E0%A4%AE%E0%A4%B9%E0%A4%BE%E0%A4%B8%E0%A4%82%E0%A4%98":MAILTO:webadmin@jpnvnigdi.org
END:VEVENT
BEGIN:VEVENT
DTSTART;TZID=Asia/Kolkata:20200829T170000
DTEND;TZID=Asia/Kolkata:20200829T190000
DTSTAMP:20260424T214323
CREATED:20200816T140740Z
LAST-MODIFIED:20200827T092450Z
UID:6598-1598720400-1598727600@jpnvnigdi.org
SUMMARY:JPNV Alumni Meet 29th Aug 2020
DESCRIPTION:माजी विद्यार्थी मेळावा \n\n\n शाळा… जुन्या आठवणींना उजाळा\, शिक्षकांशी चर्चा\, गप्पा-गोष्टी आणि बरेच काही! माजी विदयार्थ्यांना Nostalgic  अनुभव देणारा मेळावा आपल्या सर्वांच्या सहभागातून घेऊन येत आहोत… \n 29 ऑगस्ट 2020\, शनिवार रोजी संध्याकाळी 5.00\nWatch Invitation Video \nत्यानिमित्ताने माजी विद्यार्थ्यांचा डेटाबेस तयार करतोय\, प्रत्येक माजी विद्यार्थ्याने या गुगल फॉर्ममध्ये आपली माहिती द्यावी  bit.ly/3kNuZOt \n\n\n  \nZoom Meeting Details: \nhttps://zoom.us/j/92564095520?pwd=Rlp5MlpIWThoYW1UL3ZiMDY4RW1SQT09\nMeeting ID: 925 6409 5520\nPasscode: N9JH9Y \nआपला\,\nज्ञानप्रबोधिनी\, माजी विद्यार्थी संघ
URL:https://jpnvnigdi.org/event/jpnv-alumni-meet-29th-aug-2020/
LOCATION:Online Zoom/Meet\, Online\, pune\, Maharashtra\, 411044\, India
CATEGORIES:माजी विद्यार्थी मेळावा
ATTACH;FMTTYPE=image/jpeg:https://jpnvnigdi.org/wp-content/uploads/2020/08/alumni-meet.jpg
ORGANIZER;CN="%E0%A4%AE%E0%A4%BE%E0%A4%9C%E0%A5%80 %E0%A4%B5%E0%A4%BF%E0%A4%A6%E0%A5%8D%E0%A4%AF%E0%A4%BE%E0%A4%B0%E0%A5%8D%E0%A4%A5%E0%A5%80 %E0%A4%B8%E0%A4%82%E0%A4%98":MAILTO:alumni@jpnvnigdi.org
END:VEVENT
BEGIN:VEVENT
DTSTART;TZID=Asia/Kolkata:20200730T133000
DTEND;TZID=Asia/Kolkata:20200731T180000
DTSTAMP:20260424T214323
CREATED:20200811T062159Z
LAST-MODIFIED:20200912T174053Z
UID:5982-1596115800-1596218400@jpnvnigdi.org
SUMMARY:Planning and Facilitating Meetings
DESCRIPTION:Event details coming soon…
URL:https://jpnvnigdi.org/event/planning-and-facilitating-meetings/
LOCATION:शाळेचे मैदान\, Pradhikaran\, Nigdi\, pune\, Maharashtra\, 411044\, India
CATEGORIES:खेळ,संगीत,साहित्य
ATTACH;FMTTYPE=image/jpeg:https://jpnvnigdi.org/wp-content/uploads/2020/08/for-contact-bg.jpg
ORGANIZER;CN="%E0%A4%AA%E0%A4%BE%E0%A4%B2%E0%A4%95 %E0%A4%AE%E0%A4%B9%E0%A4%BE%E0%A4%B8%E0%A4%82%E0%A4%98":MAILTO:webadmin@jpnvnigdi.org
END:VEVENT
BEGIN:VEVENT
DTSTART;TZID=Asia/Kolkata:20200709T123000
DTEND;TZID=Asia/Kolkata:20200730T233000
DTSTAMP:20260424T214323
CREATED:20200616T061427Z
LAST-MODIFIED:20200912T173903Z
UID:5976-1594297800-1596151800@jpnvnigdi.org
SUMMARY:Annual Sports Event
DESCRIPTION:Event details coming soon…
URL:https://jpnvnigdi.org/event/annual-sports-event/
LOCATION:शाळेचे मैदान\, Pradhikaran\, Nigdi\, pune\, Maharashtra\, 411044\, India
CATEGORIES:खेळ
ATTACH;FMTTYPE=image/jpeg:https://jpnvnigdi.org/wp-content/uploads/2020/08/yuvak-vibhag-video.jpg
ORGANIZER;CN="%E0%A4%AA%E0%A4%BE%E0%A4%B2%E0%A4%95 %E0%A4%AE%E0%A4%B9%E0%A4%BE%E0%A4%B8%E0%A4%82%E0%A4%98":MAILTO:webadmin@jpnvnigdi.org
END:VEVENT
BEGIN:VEVENT
DTSTART;TZID=Asia/Kolkata:20200609T183000
DTEND;TZID=Asia/Kolkata:20200611T223000
DTSTAMP:20260424T214323
CREATED:20200811T062247Z
LAST-MODIFIED:20200912T173917Z
UID:5984-1591727400-1591914600@jpnvnigdi.org
SUMMARY:संगीत सभा
DESCRIPTION:Event details coming soon…
URL:https://jpnvnigdi.org/event/sangeet-sabha/
LOCATION:मनोहर सभागृह\, Pradhikaran\, Nigdi\, pune\, Maharashtra\, 411044\, India
CATEGORIES:खेळ,वार्षिक समारंभ,व्याख्यानमाला,संगीत
ATTACH;FMTTYPE=image/jpeg:https://jpnvnigdi.org/wp-content/uploads/2020/08/sangit-sabha.jpg
END:VEVENT
END:VCALENDAR