BEGIN:VCALENDAR
VERSION:2.0
PRODID:-//ज्ञान प्रबोधिनी - ECPv6.15.20//NONSGML v1.0//EN
CALSCALE:GREGORIAN
METHOD:PUBLISH
X-ORIGINAL-URL:https://jpnvnigdi.org
X-WR-CALDESC:Events for ज्ञान प्रबोधिनी
REFRESH-INTERVAL;VALUE=DURATION:PT1H
X-Robots-Tag:noindex
X-PUBLISHED-TTL:PT1H
BEGIN:VTIMEZONE
TZID:Asia/Kolkata
BEGIN:STANDARD
TZOFFSETFROM:+0530
TZOFFSETTO:+0530
TZNAME:IST
DTSTART:20200101T000000
END:STANDARD
END:VTIMEZONE
BEGIN:VEVENT
DTSTART;TZID=Asia/Kolkata:20210411T110000
DTEND;TZID=Asia/Kolkata:20210411T123000
DTSTAMP:20260424T170524
CREATED:20210410T124412Z
LAST-MODIFIED:20210514T083929Z
UID:7635-1618138800-1618144200@jpnvnigdi.org
SUMMARY:Work Station Exercises - व्याख्यानमाला
DESCRIPTION:ज्ञा. प्र. न. वि. स्नातक संघ – व्याख्यानमाला \nWork Station Exercises : Ergonomics \nOccupational Health – avoid neck pain\, back pain \nFor IT professionals and all those who have sitting jobs. \nLearn exercise from: \nDr. Uma Karnik-Agarkar (PT) \nDr. Saurabh Deshmukh (PT) \n  \nTime: Apr 11\, 2021 11:00 AM \nhttps://zoom.us/j/95299634521?pwd=ZUxWclF4ekZrNWtjblMzRkpiZEhtUT09 \nMeeting ID: 952 9963 4521\nPasscode: jpnvss
URL:https://jpnvnigdi.org/event/work-station-exercises-ergonomics/
LOCATION:Online Zoom/Meet\, Online\, pune\, Maharashtra\, 411044\, India
CATEGORIES:स्नातक संघ व्याख्यानमाला
ATTACH;FMTTYPE=image/jpeg:https://jpnvnigdi.org/wp-content/uploads/2021/04/workstation-exercise-event.jpeg
END:VEVENT
BEGIN:VEVENT
DTSTART;TZID=Asia/Kolkata:20210501T100000
DTEND;TZID=Asia/Kolkata:20210501T160000
DTSTAMP:20260424T170524
CREATED:20210424T055211Z
LAST-MODIFIED:20210429T121347Z
UID:7657-1619863200-1619884800@jpnvnigdi.org
SUMMARY:रक्तदान शिबीर - शनिवार\, १ मे २०२१
DESCRIPTION:देणाऱ्याचे हात हजार\nकोरोना महामारीमुळे निर्माण झालेल्या रक्ताच्या तुटवड्याच्या पार्श्वभूमीवर महाराष्ट्र दिनाचे औचित्य साधून\,\nज्ञान प्रबोधिनी\, निगडी युवक विभाग रक्तदान शिबीर आयोजित करत आहोत… \nतरी आपण सर्वांनी\, शारीरिक अंतराचे (Physical Distancing) सर्व नियम पाळून आणि मास्क लावून या शिबीरास सहभाग नोंदवावा असे नम्र आवाहन!!! \nतारीख : शनिवार\, १ मे २०२१\nवेळ : सकाळी १० ते सायंकाळी ४\nस्थळ : ज्ञान प्रबोधिनी नवनगर विद्यालय\, निगडी प्राधिकरण\nसंपर्क : हिमांशू : 9518507039\, अनुज : 9764198755 \n  \nखालील लिंकवर आपली माहिती भरून प्रतिसाद नोंदवावा : \nhttps://forms.gle/EHVonEMQy9bVdSyy9 \nटीप : सध्याची परिस्थिती लक्षात घेऊन आपल्याला दिलेल्या वेळेतच उपस्थित राहून सहकार्य करावे. \n 
URL:https://jpnvnigdi.org/event/blood-donation-1-may-2021/
LOCATION:मनोहर सभागृह\, Pradhikaran\, Nigdi\, pune\, Maharashtra\, 411044\, India
CATEGORIES:युवक विभाग
ATTACH;FMTTYPE=image/jpeg:https://jpnvnigdi.org/wp-content/uploads/2021/04/blood-donation-1-april-2021.jpg
END:VEVENT
BEGIN:VEVENT
DTSTART;TZID=Asia/Kolkata:20210502T170000
DTEND;TZID=Asia/Kolkata:20210502T183000
DTSTAMP:20260424T170524
CREATED:20210502T095404Z
LAST-MODIFIED:20210502T095404Z
UID:7673-1619974800-1619980200@jpnvnigdi.org
SUMMARY:जीवनातील हास्याचे महत्त्व - व्याख्यानमाला पुष्प २५ वे
DESCRIPTION:पालक महासंघ आयोजित व्याख्यानमाला पुष्प २५ वे…. \nवक्ते : डॉ श्री श्रीकृष्ण जोशी . \nविषय: जीवनातील हास्याचे महत्त्व\nआपल्या सर्वांच्याच जीवनातील सुंदर क्षण म्हणजे आपल्या चेहऱ्यावर उमटलेले हास्य 😊!!! \nआणि यालाच अनुसरून असलेल्या या ऑनलाईन व्याख्यानासाठी आपण आवर्जून उपस्थित राहा हे पालक महासंघातर्फे आग्रहाचे निमंत्रण !!!🙏 \nदि २ मे रविवार\nवेळ: संध्याकाळी ५ ते ६:३० \nपालक महासंघ व्याख्यानमाला \nJoin Zoom Meeting\nhttps://zoom.us/j/91688284597?pwd=bWJDbjN4MlBoQW9mR2tYVkxZMFJaZz09 \nMeeting ID: 916 8828 4597\nPasscode: jpnvpm \n  \nरूपरेषा \nओंकार\,पद्य- (प्रबोधिनीत यायचे)\n-मंजिरी ताई\nBackup_ चारुता ताई \nप्रस्तावना- मयुरी ताई\nBackup_ मिलिंद दादा \nपरिचय- पंकज दादा\nBackup_ प्राची ताई \nसमारोप- माधवी ताई\nBackup_ मयुरी ताई \nप्रार्थना- प्रिया ताई\nBackup_ हर्षदा ताई
URL:https://jpnvnigdi.org/event/the-importance-of-laughter-in-life-lecture-series-25/
LOCATION:Online Zoom/Meet\, Online\, pune\, Maharashtra\, 411044\, India
CATEGORIES:व्याख्यानमाला
ATTACH;FMTTYPE=image/jpeg:https://jpnvnigdi.org/wp-content/uploads/2021/05/shrikrushna-joshi-2-may.jpg
ORGANIZER;CN="%E0%A4%AA%E0%A4%BE%E0%A4%B2%E0%A4%95 %E0%A4%AE%E0%A4%B9%E0%A4%BE%E0%A4%B8%E0%A4%82%E0%A4%98":MAILTO:webadmin@jpnvnigdi.org
END:VEVENT
BEGIN:VEVENT
DTSTART;TZID=Asia/Kolkata:20210516T110000
DTEND;TZID=Asia/Kolkata:20210516T120000
DTSTAMP:20260424T170524
CREATED:20210514T083719Z
LAST-MODIFIED:20210514T083840Z
UID:7677-1621162800-1621166400@jpnvnigdi.org
SUMMARY:कोविड महामारीच्या काळात योग आणि प्राणायामाचे महत्व
DESCRIPTION:ज्ञानप्रबोधिनी नवनगर विद्यालय – स्नातक संघ \nस्नातक संघ व्याख्यानमाला – कोविड महामारीच्या काळात योग आणि प्राणायामाचे महत्व\nरविवार दिनांक १६ मे\, २०२१ \nJoin Zoom Meeting\nhttps://zoom.us/j/91565619974?pwd=OW9TVTVGaHdRQ1pvTmZLSGdaWW1Zdz09 \nMeeting ID: 915 6561 9974\nPasscode: Snatak
URL:https://jpnvnigdi.org/event/importance-of-yoga-and-pranayama-during-covid-pandemic/
LOCATION:Online Zoom/Meet\, Online\, pune\, Maharashtra\, 411044\, India
CATEGORIES:स्नातक संघ व्याख्यानमाला
ATTACH;FMTTYPE=image/jpeg:https://jpnvnigdi.org/wp-content/uploads/2021/05/snatak.jpg
END:VEVENT
BEGIN:VEVENT
DTSTART;TZID=Asia/Kolkata:20210523T103000
DTEND;TZID=Asia/Kolkata:20210523T150000
DTSTAMP:20260424T170524
CREATED:20210520T133237Z
LAST-MODIFIED:20210520T133237Z
UID:7764-1621765800-1621782000@jpnvnigdi.org
SUMMARY:मोफत अँटीजेन चाचणी शिबिर | Free Antigen Testing Camp
DESCRIPTION:📣 मोफत अँटीजेन चाचणी शिबिर | Free Antigen Testing Camp \n📌 दिवस: 23 मे\, 2021 रविवार\n📌 वेळ: सकाळी 10:30 ते दुपारी 3\n📌 स्थळ: ज्ञानप्रबोधिनी निगडी शाळा\, मातृमंदिर\, सेक्टर 25\, निगडी-प्राधिकरण \nनोंदणी:\nहेल्पलाईन 83904 58155 किंवा गुगल फॉर्म मध्ये माहिती भरा https://bit.ly/jpnv-covid-helpseeker \nमहत्वाचे:\n• अँटीजेन testing मध्ये लगेच कोरोनाचे निदान होते\n• त्वरित रिपोर्ट मिळतो\, कामाच्या ठिकाणी\, प्रवास करताना रिपोर्ट बाळगणे गरजेचे\n• जर रिपोर्ट positive असेल तर पुढील उपचारासाठी मार्गदर्शन त्याच ठिकाणी डॉक्टरांमार्फत दिले जाते \nकोणासाठी फायद्याचे:\nज्यांना लांब जाणे\, वेळ काढणे शक्य नाही\, निगडी-प्राधिकरण परिसरातील घरकाम करणारे\, बांधकाम कामगार\, विक्रेते\, दुकानदार\, कामाच्या ठिकाणी व प्रवास करणारे अश्या सर्वांसाठी \nआयोजक:\nज्ञानप्रबोधिनी कोविड मदतकार्य संघ व ‘अ’ प्रभाग\, पिंपरी चिंचवड महानगरपालिका
URL:https://jpnvnigdi.org/event/free-antigen-testing-camp/
LOCATION:मातृमंदिर\, Pradhikaran\, Nigdi\, pune\, Maharashtra\, 411044\, India
CATEGORIES:कोविड मदतकार्य संघ
ATTACH;FMTTYPE=image/jpeg:https://jpnvnigdi.org/wp-content/uploads/2021/05/antigen-23may.jpg
END:VEVENT
BEGIN:VEVENT
DTSTART;TZID=Asia/Kolkata:20210523T113000
DTEND;TZID=Asia/Kolkata:20210523T113000
DTSTAMP:20260424T170524
CREATED:20210522T053549Z
LAST-MODIFIED:20210522T053736Z
UID:7778-1621769400-1621769400@jpnvnigdi.org
SUMMARY:कोविड १९ - आयुर्वेदाच्या दृष्टिकोनातून
DESCRIPTION:ज्ञानप्रबोधिनी स्नातक संघ आयोजित \nकोविड १९ – आयुर्वेदाच्या दृष्टिकोनातून \nथेट मुलाखत\nवैद्य मेधा देवळेकर \nवैद्य दीप्ती धर्माधिकारी \nवैद्य महेश पाटील \nमुलाखतकार: मा. मनोज देवळेकर \nदिनांक: २३ मे २०२१\nवेळ: सकाळी ११.३० ते १२.३० \nLive on: Zoom Meet \nMeeting ID: 99584531336\nPassword: Snatak
URL:https://jpnvnigdi.org/event/covid-19-ayurveda-perspective/
LOCATION:Online Zoom/Meet\, Online\, pune\, Maharashtra\, 411044\, India
CATEGORIES:स्नातक संघ व्याख्यानमाला
ATTACH;FMTTYPE=image/jpeg:https://jpnvnigdi.org/wp-content/uploads/2021/05/covid-19-ayurved-benefits.jpg
END:VEVENT
BEGIN:VEVENT
DTSTART;TZID=Asia/Kolkata:20210530T103000
DTEND;TZID=Asia/Kolkata:20210530T150000
DTSTAMP:20260424T170524
CREATED:20210529T100406Z
LAST-MODIFIED:20210529T100406Z
UID:7801-1622370600-1622386800@jpnvnigdi.org
SUMMARY:मोफत अँटीजेन चाचणी शिबिर | Free Antigen Testing Camp
DESCRIPTION:📣 मोफत अँटीजेन चाचणी शिबिर | Free Antigen Testing Camp \n📌 दिवस: ३० मे\, २०२१ रविवार\n📌 वेळ: सकाळी १०:३० ते दुपारी ३\n📌 स्थळ: ज्ञानप्रबोधिनी निगडी शाळा\, मातृमंदिर\, सेक्टर २५\, निगडी-प्राधिकरण\n📌 प्रवेश: गेट क्रमांक ३\, मूक बधिर शाळेसमोरील गेट \nनोंदणी:\nहेल्पलाईन 83904 58155 किंवा गुगल फॉर्म मध्ये माहिती भरा https://bit.ly/jpnv-covid-helpseeker \nमहत्वाचे:\n• अँटीजेन testing मध्ये लगेच कोरोनाचे निदान होते\n• त्वरित रिपोर्ट मिळतो\, कामाच्या ठिकाणी\, प्रवास करताना रिपोर्ट बाळगणे गरजेचे\n• जर रिपोर्ट positive असेल तर पुढील उपचारासाठी मार्गदर्शन त्याच ठिकाणी डॉक्टरांमार्फत दिले जाते \nकोणासाठी फायद्याचे:\nज्यांना लांब जाणे\, वेळ काढणे शक्य नाही\, निगडी-प्राधिकरण परिसरातील घरकाम करणारे\, बांधकाम कामगार\, विक्रेते\, दुकानदार\, कामाच्या ठिकाणी व प्रवास करणारे अश्या सर्वांसाठी \nआयोजक:\nज्ञानप्रबोधिनी कोविड मदतकार्य संघ व ‘अ’ प्रभाग\, पिंपरी चिंचवड महानगरपालिका
URL:https://jpnvnigdi.org/event/free-antigen-testing-camp-30-may-2021/
LOCATION:मातृमंदिर\, Pradhikaran\, Nigdi\, pune\, Maharashtra\, 411044\, India
CATEGORIES:कोविड मदतकार्य संघ
ATTACH;FMTTYPE=image/jpeg:https://jpnvnigdi.org/wp-content/uploads/2021/05/antigen-30may.jpg
END:VEVENT
BEGIN:VEVENT
DTSTART;TZID=Asia/Kolkata:20210530T110000
DTEND;TZID=Asia/Kolkata:20210530T120000
DTSTAMP:20260424T170524
CREATED:20210529T103243Z
LAST-MODIFIED:20210529T114236Z
UID:7804-1622372400-1622376000@jpnvnigdi.org
SUMMARY:कोविड आणि मुलांचे आरोग्य
DESCRIPTION:स्नातक संघ व्याख्यानमाला – कोविड व मुलांचे आरोग्य\nदिनांक ३० मे\, २०२१\, सकाळी ११ वाजता.\nJoin Zoom Meeting\nhttps://zoom.us/j/99026360160?pwd=dDN4cmcweG1KamowbG1kVWliOG1QQT09 \nMeeting ID: 990 2636 0160\nPasscode: Snatak
URL:https://jpnvnigdi.org/event/covid-and-children-health/
LOCATION:Online Zoom/Meet\, Online\, pune\, Maharashtra\, 411044\, India
CATEGORIES:स्नातक संघ व्याख्यानमाला
ATTACH;FMTTYPE=image/jpeg:https://jpnvnigdi.org/wp-content/uploads/2021/05/covid-and-children-health.jpg
END:VEVENT
BEGIN:VEVENT
DTSTART;TZID=Asia/Kolkata:20210530T170000
DTEND;TZID=Asia/Kolkata:20210530T183000
DTSTAMP:20260424T170524
CREATED:20210529T155444Z
LAST-MODIFIED:20210529T155444Z
UID:7816-1622394000-1622399400@jpnvnigdi.org
SUMMARY:हास्यमैफल (विनोदी अभिवाचन) - व्याख्यानमाला पुष्प २९ वे
DESCRIPTION:ज्ञान प्रबोधिनी पालक महासंघ आयोजित व्याख्यानमाला पुष्प २९ वे\nहास्यमैफल ( विनोदी अभिवाचन )\n📖🖊️🎭🎤🎼\nप्रिय पालक बंधू भगिनींनो …\nया सत्रात पु. ल देशपांडे\, दिलीप प्रभावळकर आणि इतरही काही लेखकांच्या कलाकृतींचे अभिवाचन करत आहेत आपल्यातीलच काही हौशी पालक !!! \nया हास्य मैफलीचा आनंद घ्यायला आणि भरभरून दाद देण्यासाठी आपण सगळेच आवर्जून उपस्थित राहूयात!!🙏\nदिनांक…३० मे रविवार\nवेळ.. संध्याकाळी ५ वाजता\nलिंक \nhttps://zoom.us/j/8810093946?pwd=RG5NR0UyN2dEWC9QaG5WK0hzdTJtQT09 \nMeeting ID: 881 009 3946\nPasscode: 1234
URL:https://jpnvnigdi.org/event/comedy-concert-humorous-recitation/
LOCATION:Online Zoom/Meet\, Online\, pune\, Maharashtra\, 411044\, India
CATEGORIES:व्याख्यानमाला
ATTACH;FMTTYPE=image/jpeg:https://jpnvnigdi.org/wp-content/uploads/2021/05/comedy-concert-humorous-recitation.jpg
ORGANIZER;CN="%E0%A4%AA%E0%A4%BE%E0%A4%B2%E0%A4%95 %E0%A4%AE%E0%A4%B9%E0%A4%BE%E0%A4%B8%E0%A4%82%E0%A4%98":MAILTO:webadmin@jpnvnigdi.org
END:VEVENT
BEGIN:VEVENT
DTSTART;TZID=Asia/Kolkata:20210621T090000
DTEND;TZID=Asia/Kolkata:20210622T123000
DTSTAMP:20260424T170524
CREATED:20210616T163218Z
LAST-MODIFIED:20210617T050026Z
UID:7829-1624266000-1624365000@jpnvnigdi.org
SUMMARY:हर्षदराय रतिलाल कारीआ कलाभवन उद्घाटन सोहळा 
DESCRIPTION:सस्नेह निमंत्रण !\nज्ञान प्रबोधिनी निगडी केंद्रात – आरोग्य शिक्षण\, कला शिक्षण आणि प्राथमिक शिक्षणासाठी वास्तूविस्ताराचे काम अनेकांच्या सहकार्याने पूर्ण झाले आहे या सर्वांबद्दल कृतज्ञता व्यक्त करण्याकरिता आणि परमेश्वररुपी बालगोपाळांना ही वास्तू समर्पित करण्याकरिता हा सोहळा आयोजित केला आहे. यामध्ये आपण सर्वांना दूरस्थरुपी (online) सहभागी होण्यासाठी हे आग्रहाचे निमंत्रण! \nमनोज देवळेकर                                   गिरीशराव बापट\nकेंद्रप्रमुख निगडी केंद्र                             संचालक \nज्ञान प्रबोधिनी निगडी केंद्र \nहर्षदराय रतिलाल कारीआ कलाभवन उद्घाटन सोहळा \nसोमवार सौर ज्येष्ठ ३१ शके १९४३\, २१ जून २०२१ \nवेळ: सकाळी ९.०० ते १०.३०\nक्रीडादालनाचे उद्घाटन (चौथा मजला)\nरायफल शूटिंग\, योग\, टेबल टेनिस\, कबड्डी यांसाठी अद्ययावत कक्ष\nप्रमुख पाहुणे: माननीय श्री दत्तात्रय निकम (CFO Mahindra Vehicle Manufacturer Ltd.)\nविशेष अतिथी: माननीय श्री प्रशांत अय्यंगार (BKS अय्यंगार योग संस्था)\nअध्यक्ष: माननीय श्री मोहनराव गुजराथी \nवेळ:सायंकाळी ५.०० ते ६.३०\nकलादालनाचे उद्घाटन (तिसरा मजला)\nचित्र – हस्त – नाट्य – संगीतादी ८ कलांसाठी स्वतंत्र कक्ष\nप्रमुख पाहुणे: माननीय श्री अनंत चिंचोळकर (Head-HR\, IR & Admin KTFL)\nअध्यक्ष: माननीय श्री सुभाष राव देशपांडे (कार्यवाह – ज्ञान प्रबोधिनी) \nमुख्य उद्घाटन सोहळा\nमंगळवार सौर आषाढ १ शके १९४३\, २२ जून २०२१\nवेळ: सकाळी १०.३० ते १२.३० \nइमारतीचे नामकरण आणि प्राथमिक विभागाच्या वर्गांचे उद्घाटन (दुसरा मजला)\nप्राथमिकसाठी स्वतंत्र ८ वर्गखोल्या\nप्रमुख पाहुणे: माननीय श्री नितीन भाई कारीआ (Ratilal Bhavan Construction Co.)\n                    माननीय श्री पार्थ मुखर्जी (Project Manager\, Janaki Devi GVS)\n                    माननीय श्री संजय कुलकर्णी (President Fleetguard filters Pvt. Ltd.)\nअध्यक्ष: माननीय श्री गिरीशराव बापट (संचालक\, ज्ञान प्रबोधिनी) \nकार्यक्रम पाहण्यासाठी लिंक https://youtube.com/JPNVnigdi
URL:https://jpnvnigdi.org/event/harshadray-ratilal-kaaria-art-center-opening-ceremony/
LOCATION:Youtube Live Event
CATEGORIES:उद्घाटन सोहळा
ATTACH;FMTTYPE=image/jpeg:https://jpnvnigdi.org/wp-content/uploads/2021/06/harshadray-kaaria-center-opening.jpeg
END:VEVENT
BEGIN:VEVENT
DTSTART;TZID=Asia/Kolkata:20210624T180000
DTEND;TZID=Asia/Kolkata:20210628T184000
DTSTAMP:20260424T170524
CREATED:20210522T054910Z
LAST-MODIFIED:20210522T054941Z
UID:7785-1624557600-1624905600@jpnvnigdi.org
SUMMARY:श्वसनरोग प्रतिकारशक्तीवर्धक योग अभ्यासक्रम
DESCRIPTION:श्वसनरोग प्रतिकारशक्तीवर्धक योग अभ्यासक्रम \nPre COVID\, COVID Positive and Post COVID \nकोरोना काळातील रुग्णांच्या आणि त्यांच्या नातेवाईकांच्या शारीरिक व मानसिक सशक्तीकरणासाठी योग साधना अतिशय उपयुक्त आहे.\nIsolation व Quarantine असलेल्या कोरोना रुग्णांच्या मनात निर्माण झालेली भीती व ताणतणाव दूर करण्यासाठी योग्य पद्धतीने प्राणायाम करणे गरजेचे आहे. कोरोना होऊ नये म्हणून\,जे आत्ता कोरोनाशी लढा देत आहेत आणि ज्यांना कोरोना होऊन गेलेला आहे अशा सर्वांसाठी हा योगाभ्यास अत्यंत उपयुक्त आहे. \nवर्गात काय असेल (वर्ग मराठीतून असेल) \n• आसन \n• प्राणायाम \n• शुद्धिक्रिया \nयोग प्रशिक्षिका\nविद्या आहेरकर\n(S-VYASA आणि YCMOU प्रमाणित)\nकेंद्रप्रमुख – मंथन निरामय योग प्रसार व संशोधन केंद्र\,पुणे. \n• कालावधी- २४ मे ते २८ मे\n• वेळ- सायंकाळी ६:०० ते ६:४० \nनावनोंदणीसाठी संपर्क – सेवावाहिनी HELPLINE ८३९०४५८१५५ \nकिंवा हा form भरून संपर्क करू शकता. bit.ly/jpnv-covid-helpseeker
URL:https://jpnvnigdi.org/event/respiratory-immunity-enhancer-yoga-course/
LOCATION:Online Zoom/Meet\, Online\, pune\, Maharashtra\, 411044\, India
CATEGORIES:कोविड मदतकार्य संघ
ATTACH;FMTTYPE=image/jpeg:https://jpnvnigdi.org/wp-content/uploads/2021/05/Respiratory-Immune-Enhancer-yoga.jpg
END:VEVENT
BEGIN:VEVENT
DTSTART;TZID=Asia/Kolkata:20210711T060000
DTEND;TZID=Asia/Kolkata:20210711T180000
DTSTAMP:20260424T170524
CREATED:20210710T045023Z
LAST-MODIFIED:20210710T060537Z
UID:7901-1625983200-1626026400@jpnvnigdi.org
SUMMARY:पालकांची सायकल सहल\, वृक्षारोपण आणि चैतन्यवारी
DESCRIPTION:पालक बंधूभगिनींनो\, उद्या रविवार दि. ११ जुलै २०२१ उद्या सकाळी आपल्या आई बाबा पालकांची सायकल सहल आणि वृक्षारोपण आणि त्यानंतर संध्याकाळी पाच ते सहा चैतन्यवारी असा दिवसभराचा भरगच्च कार्यक्रम आहे …थोडक्यात काय तर उद्याची आपली दिवसाची सुरुवात आणि शेवट ही प्रसन्न वातावरणात होणार यात शंकाच नाही …. !!! 😊 \nसंध्याकाळच्या कार्यक्रमात श्री नचिकेतदादा देव आणि श्री लिमये काका… या दिग्गजांचाही सहभाग आहे हे विशेष !!! चुकवू नये असे काही…. याच स्वरूपाचे हे दोन्ही कार्यक्रम आहेत.😊 आपण सर्वांनी सकाळी सायकल स्वारांना प्रोत्साहन द्यायला प्रत्यक्ष आणि संध्याकाळच्या कार्यक्रमासाठी ऑनलाईन पद्धतीने नक्की उपस्थित राहा… \nचैतन्य वारी (सांय.५ ते ६ )Link : Join Zoom Meetinghttps://zoom.us/j/8810093946?pwd=RG5NR0UyN2dEWC9QaG5WK0hzdTJtQT09Meeting ID: 881 009 3946Passcode: 1234 \nहे आग्रहाचे निमंत्रण!!! 🙏 \nपालक महासंघ \n 
URL:https://jpnvnigdi.org/event/cycle-ride-11-july-2021/
LOCATION:मातृमंदिर\, Pradhikaran\, Nigdi\, pune\, Maharashtra\, 411044\, India
CATEGORIES:इतर
ATTACH;FMTTYPE=image/jpeg:https://jpnvnigdi.org/wp-content/uploads/2021/07/cycle-event-11-july-2021.jpeg
ORGANIZER;CN="%E0%A4%AA%E0%A4%BE%E0%A4%B2%E0%A4%95 %E0%A4%AE%E0%A4%B9%E0%A4%BE%E0%A4%B8%E0%A4%82%E0%A4%98":MAILTO:webadmin@jpnvnigdi.org
END:VEVENT
BEGIN:VEVENT
DTSTART;TZID=Asia/Kolkata:20210810T080000
DTEND;TZID=Asia/Kolkata:20210814T210000
DTSTAMP:20260424T170524
CREATED:20210810T044241Z
LAST-MODIFIED:20210810T044353Z
UID:7941-1628582400-1628974800@jpnvnigdi.org
SUMMARY:पालकांसाठी मेंदी स्पर्धा
DESCRIPTION:नमस्कार आपली मेंदीची कार्यशाळा तर अगदी छान पार पडली .😊 आम्हाला खात्री आहे की तुम्ही त्याचा सराव ही अगदी जोरात सुरू केला असेल… हो ना ?? चला तर मग लागा तयारीला…. तुम्ही काढलेल्या सुंदर सुंदर मेंदीच्या रंगलेल्या हातांचे फोटो आम्हाला नक्की पाठवा..👍आम्ही वाट बघत आहोत … \nमेंदी स्पर्धेचे काही नियम 👇 \n१ तुम्ही काढलेल्या मेंदीचा फोटो landscape मोडमध्येच काढावा. \n२ परीक्षकांचा निकाल अंतिम राहील. \n३ १४/८/२१ शनिवारी रात्री ९ वाजेपर्यंत आलेले फोटो विचारात घेतले जातील. \n४ आपली ही स्पर्धा फक्त पालकांसाठी आहे.(पाल्यांसाठी नाही😊) \n५ मेंदीचे फोटो पाठवताना स्वतःचे नाव. पाल्याचा वर्ग आणि तुकडी लिहिणे आवश्यक आहे. \n६ याचा निकाल १५ऑगस्ट रोजी जाहीर केला जाईल. \n  \n मेंदीचे फोटो पाठविण्यासाठी संपर्क क्रमांक👇👇 \n१ कांचनताई देशपांडे ..९६८९१९५२३९ \n२ प्रतिक्षाताई साळसकर..८८३०९८५९३८ \n३ विद्याताई क्षीरसागर ..९४२३०८६७०४ \n  \nसांस्कृतिक विभाग \nपालक महासंघ
URL:https://jpnvnigdi.org/event/mendi-competition-for-parents/
LOCATION:Online Zoom/Meet\, Online\, pune\, Maharashtra\, 411044\, India
CATEGORIES:पालक महासंघ
ATTACH;FMTTYPE=image/jpeg:https://jpnvnigdi.org/wp-content/uploads/2021/08/mendi-spardha.jpg
ORGANIZER;CN="%E0%A4%AA%E0%A4%BE%E0%A4%B2%E0%A4%95 %E0%A4%AE%E0%A4%B9%E0%A4%BE%E0%A4%B8%E0%A4%82%E0%A4%98":MAILTO:webadmin@jpnvnigdi.org
END:VEVENT
BEGIN:VEVENT
DTSTART;TZID=Asia/Kolkata:20210814T210000
DTEND;TZID=Asia/Kolkata:20210814T220000
DTSTAMP:20260424T170524
CREATED:20210812T123654Z
LAST-MODIFIED:20210812T125747Z
UID:7953-1628974800-1628978400@jpnvnigdi.org
SUMMARY:स्वातंत्र्य संग्रामातील समिधा
DESCRIPTION:पालक महासंघ सामाजिक विभाग \nघेऊन येत आहेत भारतीय स्वातंत्र्य दिनाच्या पूर्व संध्येला अनुसरून दिनांक १४ ऑगस्ट २०२१ या दिवशी रात्रो ९:०० वाजता भारतीय स्वातंत्र्यलढ्यात ज्या क्रांतिकारकांनी आपल्या प्राणाची आहुती देऊन आपल्या देशाला स्वातंत्र्य मिळवून दिले. त्यांच्या पराक्रमाची\, त्यांच्या शौर्याची यशोगाथा आपण या निमित्ताने पाहणार आहोत. भारतीय स्वातंत्र्य लढ्यात अनेक वीरांनी आपल्या प्राणांच्या समिधा वाहून आपल्या देशाला स्वातंत्र्य मिळवून दिले याची साक्ष “स्वातंत्र्य संग्रामातील समिधा” या लघुपटातुन आपण मागोवा घेणार आहोत. \nज्या वीरांनी आपल्या देशासाठी रक्त सांडले त्या वीरांची शौर्यगाथा ऐकण्यासाठी व पाहण्यासाठी नक्की भेटुयात. \nJoin Zoom Meeting – Zoom link 👇 \nhttps://zoom.us/j/93855890823?pwd=TWRCa0Z1SEZaUHQzNUNtY3RyTkd1UT09 \nMeeting ID: 938 5589 0823 \nPasscode: jpnvpm  
URL:https://jpnvnigdi.org/event/freedom-fighters-sacrifice/
LOCATION:Online Zoom/Meet\, Online\, pune\, Maharashtra\, 411044\, India
CATEGORIES:पालक महासंघ
ATTACH;FMTTYPE=image/jpeg:https://jpnvnigdi.org/wp-content/uploads/2021/08/samidha-01.jpg
ORGANIZER;CN="%E0%A4%AA%E0%A4%BE%E0%A4%B2%E0%A4%95 %E0%A4%AE%E0%A4%B9%E0%A4%BE%E0%A4%B8%E0%A4%82%E0%A4%98":MAILTO:webadmin@jpnvnigdi.org
END:VEVENT
BEGIN:VEVENT
DTSTART;TZID=Asia/Kolkata:20210821T173000
DTEND;TZID=Asia/Kolkata:20210821T190000
DTSTAMP:20260424T170524
CREATED:20210818T065336Z
LAST-MODIFIED:20210818T065621Z
UID:7969-1629567000-1629572400@jpnvnigdi.org
SUMMARY:यशस्वी उद्योजकांची वाटचाल - मुक्त संवाद
DESCRIPTION:पालक बंधूभगिनींनो… \nनमस्कार कळविण्यास अत्यंत आनंद होतोय की आपल्या शाळेतील सगळ्याच उद्योजक पालकांना व्यवसाय वृद्धीसाठी मदत करणे व नव्याने उद्योजक होऊ इच्छिणाऱ्या पालकांना/विद्यार्थ्यांना सर्व प्रकारे मदत करणे या उद्देशाने ” पालक महासंघ उद्योग विभाग काही नाविन्यपूर्ण उपक्रमांचे नियोजन करीत आहे !!! 😊 \nया उपक्रमात आपणा सर्वांचीच साथ मिळाली तर हे विधायक कार्य निरंतर करण्याची प्रेरणा आपल्या सर्वांनाच मिळेल हे नक्की !!! या नियोजनाचा एक भाग म्हणून या वर्षीच्या आपल्या पहिल्या उपक्रमाचे आयोजन आपण करत आहोत. \nउद्योजकांशी मुक्त संवाद (आपल्याच विद्यालयातील यशस्वी पालक उद्योजकांशी केलेला मनमोकळा संवाद ) \nयशस्वी उद्योजक कसे बनावे ? व त्यातील अडचणींवर मात कशी करावी? याचबरोबर यासाठी प्रेरणा व प्रोत्साहन मिळवणे\, हेच या उपक्रमाचे उद्दिष्ट आहे!!! \nयाचबरोबर उद्योजक व नव्याने उद्योग सुरु करण्याची इच्छा असणाऱ्या पालकांची एकत्रित भेट हा देखील उद्द्येश यामध्ये आहे. तरीही आपण प्रत्यक्ष कार्यक्रमास उपस्थित राहावे हि नम्र विनंती !!🙏🙏😊 \nस्थळ – मनोहर सभागृह \nतारीख व वेळ  – २१ ऑगस्ट २०२१\, संध्याकाळी ५.३० ते ७ \nज्यांना प्रत्यक्ष उपस्थित राहणे शक्य नाही अश्या पालकांसाठी – \nYouTube live on : https://www.youtube.com/channel/UC86bXYK2zGPv5wRu2GzA3gw \nआपण सर्वांनी नक्की उपस्थित राहावे हे आग्रहाचे निमंत्रण !!! \nउद्योग विभाग \nपालक महासंघ
URL:https://jpnvnigdi.org/event/successful-businessman-journey/
LOCATION:Youtube Live Event
CATEGORIES:पालक महासंघ,व्याख्यानमाला
ATTACH;FMTTYPE=image/jpeg:https://jpnvnigdi.org/wp-content/uploads/2021/08/businessman-21-aug-2021.jpeg
ORGANIZER;CN="%E0%A4%AA%E0%A4%BE%E0%A4%B2%E0%A4%95 %E0%A4%AE%E0%A4%B9%E0%A4%BE%E0%A4%B8%E0%A4%82%E0%A4%98":MAILTO:webadmin@jpnvnigdi.org
END:VEVENT
BEGIN:VEVENT
DTSTART;TZID=Asia/Kolkata:20211102T070000
DTEND;TZID=Asia/Kolkata:20211102T170000
DTSTAMP:20260424T170524
CREATED:20211030T065729Z
LAST-MODIFIED:20211030T065729Z
UID:8045-1635836400-1635872400@jpnvnigdi.org
SUMMARY:दिवाळी पहाट - सस्नेह निमंत्रण
DESCRIPTION:बघता बघता दिवाळी आली..\n\nसांगीतिक मेजवानीला जायची वेळ झाली… प्रतिवर्षीप्रमाणे धनत्रयोदशीला दिवाळी पहाट संगीत सभा आणि फराळ यासाठी सर्वांना आग्रहाचे आमंत्रण ! हा स्नेहमेळावा अनुभवण्यासाठी अवश्य यावे ही विनंती 🙏🏻\n\n \n\ndiwali pahat prabodhini
URL:https://jpnvnigdi.org/event/diwali-pahat-2021-invitation/
LOCATION:मनोहर सभागृह\, Pradhikaran\, Nigdi\, pune\, Maharashtra\, 411044\, India
CATEGORIES:दीपावली
ATTACH;FMTTYPE=image/jpeg:https://jpnvnigdi.org/wp-content/uploads/2021/10/diwali-pahat-prabodhini.jpeg
END:VEVENT
BEGIN:VEVENT
DTSTART;TZID=Asia/Kolkata:20211102T090000
DTEND;TZID=Asia/Kolkata:20211102T120000
DTSTAMP:20260424T170524
CREATED:20211030T070720Z
LAST-MODIFIED:20211030T070721Z
UID:8049-1635843600-1635854400@jpnvnigdi.org
SUMMARY:धन्वंतरी याग - सस्नेह निमंत्रण
DESCRIPTION:२१ जून रोजी उद्घाटन झालेल्या नवीन इमारतीतील क्रीडा दालनातून राष्ट्रीय – आंतरराष्ट्रीय खेळाडू घडावेत\, तसेच समाजातील सर्वांचे स्वास्थ्य उत्तम राहावे याकरिता येथून मार्गदर्शन करावे\, असा आमचा संकल्प आहे.\n\nभारतीय संस्कृतीतील आरोग्य देवता भगवान धन्वंतरी\, समुद्र मंथनातून निर्माण झालेले एक रत्न\, आयुर्वेदाचे प्रवर्तक\, व्याधी दूर ठेवणारे भगवंत\, आरोग्याचे रक्षक ! अशा या आरोग्य देवतेची उपासना धनत्रयोदशेच्या दिवशी करून आरोग्य रक्षणार्थ कटिबद्ध होण्यासाठी ” धन्वंतरी यागाचे” आयोजन करीत आहोत. आपण दर्शनासाठी आणि प्रसादासाठी यावे हि विनंती.\n\ndhanvantari yaag\n\n 
URL:https://jpnvnigdi.org/event/dhanvantari-yaag-invitation/
LOCATION:क्रीडादालन ४ था मजला\, मनोहर सभागृह ब्लीडींग\, pune\, MH\, 4110044\, India
CATEGORIES:दीपावली
ATTACH;FMTTYPE=image/jpeg:https://jpnvnigdi.org/wp-content/uploads/2021/10/dhanvantari-yaag.jpeg
END:VEVENT
BEGIN:VEVENT
DTSTART;TZID=Asia/Kolkata:20211225T000000
DTEND;TZID=Asia/Kolkata:20211226T235959
DTSTAMP:20260424T170524
CREATED:20211225T063538Z
LAST-MODIFIED:20211228T043700Z
UID:8092-1640390400-1640563199@jpnvnigdi.org
SUMMARY:One day Fun shooting program for parent and child
DESCRIPTION:  \n\n\n\nOne day Fun shooting program for parent and child \nTogether entry fee is 1000 Rs. \nDuration 9 am to 1 pm \n25th Dec or 26th Dec 2021 choice is yours..
URL:https://jpnvnigdi.org/event/one-day-fun-shooting-program-for-parent-and-child/
LOCATION:क्रीडादालन ४ था मजला\, मनोहर सभागृह ब्लीडींग\, pune\, MH\, 4110044\, India
CATEGORIES:खेळ
ATTACH;FMTTYPE=image/jpeg:https://jpnvnigdi.org/wp-content/uploads/2021/12/one-day-fun-shooting.jpeg
END:VEVENT
END:VCALENDAR